BEGIN:VCALENDAR
VERSION:2.0
PRODID:-//Theater Alte Feuerwache e. V. - ECPv6.15.19//NONSGML v1.0//EN
CALSCALE:GREGORIAN
METHOD:PUBLISH
X-WR-CALNAME:Theater Alte Feuerwache e. V.
X-ORIGINAL-URL:https://taf.theater
X-WR-CALDESC:Veranstaltungen für Theater Alte Feuerwache e. V.
REFRESH-INTERVAL;VALUE=DURATION:PT1H
X-Robots-Tag:noindex
X-PUBLISHED-TTL:PT1H
BEGIN:VTIMEZONE
TZID:Europe/Berlin
BEGIN:DAYLIGHT
TZOFFSETFROM:+0100
TZOFFSETTO:+0200
TZNAME:CEST
DTSTART:20210328T010000
END:DAYLIGHT
BEGIN:STANDARD
TZOFFSETFROM:+0200
TZOFFSETTO:+0100
TZNAME:CET
DTSTART:20211031T010000
END:STANDARD
BEGIN:DAYLIGHT
TZOFFSETFROM:+0100
TZOFFSETTO:+0200
TZNAME:CEST
DTSTART:20220327T010000
END:DAYLIGHT
BEGIN:STANDARD
TZOFFSETFROM:+0200
TZOFFSETTO:+0100
TZNAME:CET
DTSTART:20221030T010000
END:STANDARD
BEGIN:DAYLIGHT
TZOFFSETFROM:+0100
TZOFFSETTO:+0200
TZNAME:CEST
DTSTART:20230326T010000
END:DAYLIGHT
BEGIN:STANDARD
TZOFFSETFROM:+0200
TZOFFSETTO:+0100
TZNAME:CET
DTSTART:20231029T010000
END:STANDARD
END:VTIMEZONE
BEGIN:VEVENT
DTSTART;TZID=Europe/Berlin:20220709T200000
DTEND;TZID=Europe/Berlin:20220709T220000
DTSTAMP:20260425T054605
CREATED:20220621T152032Z
LAST-MODIFIED:20220704T114011Z
UID:10000754-1657396800-1657404000@taf.theater
SUMMARY:ANDREJ HERMLIN AND HIS SWINGING HERMLINS
DESCRIPTION:Andrej Hermlin ist seit mehr als 30 Jahren einer der gefragtesten Swing-Musiker Deutschlands und auch über die Ländergrenzen hinaus äußerst erfolgreich.\nFür ihn und sein Swing Dance Orchestra sind die amerikanischen Original-Arrangements der 1930er und 1940er Jahre das wichtigste Markenzeichen. Auf elektronische Verstärkung wird gern verzichtet. \nAls im März 2020 das öffentliche Leben und der Kulturbetrieb durch Corona lahmgelegt wurden\, war für Andrej Hermlin und seine Kinder Rachel und David (Gesang und Schlagzeug) klar\, dass gerade der Swing als Hoffnungsmusik\, die während der Großen Depression der Dreißiger Jahre entstanden war\, in der aktuellen Krise nicht verstummen darf. Jeden Abend präsentieren „The Swingin’ Hermlins“ seither über die Sozialen Medien für eine halbe Stunde authentischen Swing der 1930er Jahre – in wechselnden Besetzungen\, mit Musikern\, die ebenfalls Swing-Größen wie Benny Goodman\, Count Basie\, Glenn Miller oder Jimmie Lunceford lieben. \nUnter dem Titel „The Music Goes Round And Around“ „beswingen“ sie die Krise in mittlerweile über 600 Sendungen auf Facebook\, YouTube und Instagram. Zudem haben „The Swingin‘ Hermlins“ mehrere Alben und ein Buch veröffentlicht und geben seit Januar 2021 die Kulturzeitung „Hermlinville Times“ heraus. Von all dem berichteten in den vergangenen Monaten u.a. die New York Times\, der Guardian\, das ZDF heute Journal\, das Forbes Magazin\, die Los Angeles Times. \n„Die Musik\, die wir spielen\, ist ein Kontrastprogramm zu dem\, was im Moment geschieht. Wir versuchen\, fröhlich und optimistisch zu sein“\, sagt Andrej Hermlin. Jetzt kehrt diese Band\, die so vielen Menschen Hoffnung gegeben hat\, zurück auf die Bühnen!
URL:https://taf.theater/termin/andrej-hermlin-and-his-swinging-hermlins/
LOCATION:Konzertmuschel der Trinkkuranlage
CATEGORIES:Sonstiges
ATTACH;FMTTYPE=image/webp:https://taf.theater/wp-content/uploads/event-main-0-2.webp
ORGANIZER;CN="Fachdienst Kultur und Sport":MAILTO:kulturamt@bad-nauheim.de
END:VEVENT
END:VCALENDAR